BEGIN:VCALENDAR
VERSION:2.0
PRODID:-//My Calendar//http://www.joedolson.com//v3.2.17//EN
METHOD:PUBLISH
CALSCALE:GREGORIAN
X-WR-CALNAME:Volksschule Ringelsdorf-Niederabsdorf
X-PUBLISHED-TTL:PT24H
REFRESH-INTERVAL;VALUE=DURATION:PT24H
X-WR-CALDESC:Events from Volksschule Ringelsdorf-Niederabsdorf
BEGIN:VEVENT
UID:827-178
LOCATION:
SUMMARY:Schulbeginn Schuljahr 2021/2022
DTSTAMP:20210906T000000
ORGANIZER;CN=Daniela Schmid:MAILTO:daniela.schmid@gmx.at
DTSTART;TZID=Etc/GMT+0:20210906T000000
DTEND;TZID=Etc/GMT+0:20210907T000000
URL;VALUE=URI:http://vsringelsdorf-niederabsdorf.ac.at/?page_id=218
DESCRIPTION: 
CATEGORIES:General
X-FUNAMBOL-ALLDAY: 1
X-MICROSOFT-CDO-ALLDAYEVENT: TRUE

END:VEVENT
BEGIN:VEVENT
UID:826-177
LOCATION:
SUMMARY:Schulfest
DTSTAMP:20210625T000000
ORGANIZER;CN=Daniela Schmid:MAILTO:daniela.schmid@gmx.at
DTSTART;TZID=Etc/GMT+0:20210625T000000
DTEND;TZID=Etc/GMT+0:20210626T000000
URL;VALUE=URI:http://vsringelsdorf-niederabsdorf.ac.at/?page_id=218
DESCRIPTION: 
CATEGORIES:General
X-FUNAMBOL-ALLDAY: 1
X-MICROSOFT-CDO-ALLDAYEVENT: TRUE

END:VEVENT
BEGIN:VEVENT
UID:825-176
LOCATION:
SUMMARY:Schulautonomer freier Tag
DTSTAMP:20210604T000000
ORGANIZER;CN=Sabine Totter:MAILTO:vs.ringelsdorf-niederabsdorf@noeschule.at
DTSTART;TZID=Etc/GMT+0:20210604T000000
DTEND;TZID=Etc/GMT+0:20210605T000000
URL;VALUE=URI:http://vsringelsdorf-niederabsdorf.ac.at/?page_id=218
DESCRIPTION: 
CATEGORIES:Frei
X-FUNAMBOL-ALLDAY: 1
X-MICROSOFT-CDO-ALLDAYEVENT: TRUE

END:VEVENT
BEGIN:VEVENT
UID:824-175
LOCATION:
SUMMARY:Fronleichnam
DTSTAMP:20210603T000000
ORGANIZER;CN=Sabine Totter:MAILTO:vs.ringelsdorf-niederabsdorf@noeschule.at
DTSTART;TZID=Etc/GMT+0:20210603T000000
DTEND;TZID=Etc/GMT+0:20210604T000000
URL;VALUE=URI:http://vsringelsdorf-niederabsdorf.ac.at/?page_id=218
DESCRIPTION: 
CATEGORIES:Frei
X-FUNAMBOL-ALLDAY: 1
X-MICROSOFT-CDO-ALLDAYEVENT: TRUE

END:VEVENT
BEGIN:VEVENT
UID:823-174
LOCATION:
SUMMARY:Pfingstferien
DTSTAMP:20210522T000000
ORGANIZER;CN=Daniela Schmid:MAILTO:daniela.schmid@gmx.at
DTSTART;TZID=Etc/GMT+0:20210522T000000
DTEND;TZID=Etc/GMT+0:20210525T000000
URL;VALUE=URI:http://vsringelsdorf-niederabsdorf.ac.at/?page_id=218
DESCRIPTION: 
CATEGORIES:General
X-FUNAMBOL-ALLDAY: 1
X-MICROSOFT-CDO-ALLDAYEVENT: TRUE

END:VEVENT
BEGIN:VEVENT
UID:822-173
LOCATION:
SUMMARY:Schulautonomer freier Tag
DTSTAMP:20210514T000000
ORGANIZER;CN=Sabine Totter:MAILTO:vs.ringelsdorf-niederabsdorf@noeschule.at
DTSTART;TZID=Etc/GMT+0:20210514T000000
DTEND;TZID=Etc/GMT+0:20210515T000000
URL;VALUE=URI:http://vsringelsdorf-niederabsdorf.ac.at/?page_id=218
DESCRIPTION: 
CATEGORIES:Frei
X-FUNAMBOL-ALLDAY: 1
X-MICROSOFT-CDO-ALLDAYEVENT: TRUE

END:VEVENT
BEGIN:VEVENT
UID:821-172
LOCATION:
SUMMARY:Christi Himmelfahrt
DTSTAMP:20210513T000000
ORGANIZER;CN=Sabine Totter:MAILTO:vs.ringelsdorf-niederabsdorf@noeschule.at
DTSTART;TZID=Etc/GMT+0:20210513T000000
DTEND;TZID=Etc/GMT+0:20210514T000000
URL;VALUE=URI:http://vsringelsdorf-niederabsdorf.ac.at/?page_id=218
DESCRIPTION: 
CATEGORIES:Frei
X-FUNAMBOL-ALLDAY: 1
X-MICROSOFT-CDO-ALLDAYEVENT: TRUE

END:VEVENT
BEGIN:VEVENT
UID:820-171
LOCATION:
SUMMARY:Elternsprechtag
DTSTAMP:20210428T000000
ORGANIZER;CN=Daniela Schmid:MAILTO:daniela.schmid@gmx.at
DTSTART;TZID=Etc/GMT+0:20210428T000000
DTEND;TZID=Etc/GMT+0:20210429T000000
URL;VALUE=URI:http://vsringelsdorf-niederabsdorf.ac.at/?page_id=218
DESCRIPTION: 
CATEGORIES:General
X-FUNAMBOL-ALLDAY: 1
X-MICROSOFT-CDO-ALLDAYEVENT: TRUE

END:VEVENT
BEGIN:VEVENT
UID:819-170
LOCATION:
SUMMARY:Osterferien
DTSTAMP:20210327T000000
ORGANIZER;CN=Sabine Totter:MAILTO:vs.ringelsdorf-niederabsdorf@noeschule.at
DTSTART;TZID=Etc/GMT+0:20210327T000000
DTEND;TZID=Etc/GMT+0:20210406T000000
URL;VALUE=URI:http://vsringelsdorf-niederabsdorf.ac.at/?page_id=218
DESCRIPTION: 
CATEGORIES:Frei
X-FUNAMBOL-ALLDAY: 1
X-MICROSOFT-CDO-ALLDAYEVENT: TRUE

END:VEVENT
BEGIN:VEVENT
UID:818-169
LOCATION:
SUMMARY:Zahnprojekt Apollonia
DTSTAMP:20210311T000000
ORGANIZER;CN=Daniela Schmid:MAILTO:daniela.schmid@gmx.at
DTSTART;TZID=Etc/GMT+0:20210311T000000
DTEND;TZID=Etc/GMT+0:20210312T000000
URL;VALUE=URI:http://vsringelsdorf-niederabsdorf.ac.at/?page_id=218
DESCRIPTION: 
CATEGORIES:General
X-FUNAMBOL-ALLDAY: 1
X-MICROSOFT-CDO-ALLDAYEVENT: TRUE

END:VEVENT
BEGIN:VEVENT
UID:817-168
LOCATION:
SUMMARY:Faschingdienstag
DTSTAMP:20210216T000000
ORGANIZER;CN=Daniela Schmid:MAILTO:daniela.schmid@gmx.at
DTSTART;TZID=Etc/GMT+0:20210216T000000
DTEND;TZID=Etc/GMT+0:20210217T000000
URL;VALUE=URI:http://vsringelsdorf-niederabsdorf.ac.at/?page_id=218
DESCRIPTION: 
CATEGORIES:General
X-FUNAMBOL-ALLDAY: 1
X-MICROSOFT-CDO-ALLDAYEVENT: TRUE

END:VEVENT
BEGIN:VEVENT
UID:816-167
LOCATION:
SUMMARY:Semesterferien
DTSTAMP:20210201T000000
ORGANIZER;CN=Sabine Totter:MAILTO:vs.ringelsdorf-niederabsdorf@noeschule.at
DTSTART;TZID=Etc/GMT+0:20210201T000000
DTEND;TZID=Etc/GMT+0:20210208T000000
URL;VALUE=URI:http://vsringelsdorf-niederabsdorf.ac.at/?page_id=218
DESCRIPTION: 
CATEGORIES:Frei
X-FUNAMBOL-ALLDAY: 1
X-MICROSOFT-CDO-ALLDAYEVENT: TRUE

END:VEVENT
BEGIN:VEVENT
UID:815-166
LOCATION:
SUMMARY:Weihnachtsferien
DTSTAMP:20201224T000000
ORGANIZER;CN=Sabine Totter:MAILTO:vs.ringelsdorf-niederabsdorf@noeschule.at
DTSTART;TZID=Etc/GMT+0:20201224T000000
DTEND;TZID=Etc/GMT+0:20210107T000000
URL;VALUE=URI:http://vsringelsdorf-niederabsdorf.ac.at/?page_id=218
DESCRIPTION: 
CATEGORIES:Frei
X-FUNAMBOL-ALLDAY: 1
X-MICROSOFT-CDO-ALLDAYEVENT: TRUE

END:VEVENT
BEGIN:VEVENT
UID:814-165
LOCATION:
SUMMARY:Maria Empfängnis
DTSTAMP:20201208T000000
ORGANIZER;CN=Sabine Totter:MAILTO:vs.ringelsdorf-niederabsdorf@noeschule.at
DTSTART;TZID=Etc/GMT+0:20201208T000000
DTEND;TZID=Etc/GMT+0:20201209T000000
URL;VALUE=URI:http://vsringelsdorf-niederabsdorf.ac.at/?page_id=218
DESCRIPTION: 
CATEGORIES:General
X-FUNAMBOL-ALLDAY: 1
X-MICROSOFT-CDO-ALLDAYEVENT: TRUE

END:VEVENT
BEGIN:VEVENT
UID:813-164
LOCATION:
SUMMARY:Elternsprechtag
DTSTAMP:20201125T000000
ORGANIZER;CN=Daniela Schmid:MAILTO:daniela.schmid@gmx.at
DTSTART;TZID=Etc/GMT+0:20201125T000000
DTEND;TZID=Etc/GMT+0:20201126T000000
URL;VALUE=URI:http://vsringelsdorf-niederabsdorf.ac.at/?page_id=218
DESCRIPTION: 
CATEGORIES:General
X-FUNAMBOL-ALLDAY: 1
X-MICROSOFT-CDO-ALLDAYEVENT: TRUE

END:VEVENT
BEGIN:VEVENT
UID:812-163
LOCATION:
SUMMARY:Allerseelen
DTSTAMP:20201102T000000
ORGANIZER;CN=Sabine Totter:MAILTO:vs.ringelsdorf-niederabsdorf@noeschule.at
DTSTART;TZID=Etc/GMT+0:20201102T000000
DTEND;TZID=Etc/GMT+0:20201103T000000
URL;VALUE=URI:http://vsringelsdorf-niederabsdorf.ac.at/?page_id=218
DESCRIPTION: 
CATEGORIES:General
X-FUNAMBOL-ALLDAY: 1
X-MICROSOFT-CDO-ALLDAYEVENT: TRUE

END:VEVENT
BEGIN:VEVENT
UID:811-162
LOCATION:
SUMMARY:Allerheiligen
DTSTAMP:20201101T000000
ORGANIZER;CN=Sabine Totter:MAILTO:vs.ringelsdorf-niederabsdorf@noeschule.at
DTSTART;TZID=Etc/GMT+0:20201101T000000
DTEND;TZID=Etc/GMT+0:20201102T000000
URL;VALUE=URI:http://vsringelsdorf-niederabsdorf.ac.at/?page_id=218
DESCRIPTION: 
CATEGORIES:General
X-FUNAMBOL-ALLDAY: 1
X-MICROSOFT-CDO-ALLDAYEVENT: TRUE

END:VEVENT
BEGIN:VEVENT
UID:809-160
LOCATION:
SUMMARY:Wandertag
DTSTAMP:20200930T000000
ORGANIZER;CN=Daniela Schmid:MAILTO:daniela.schmid@gmx.at
DTSTART;TZID=Etc/GMT+0:20200930T000000
DTEND;TZID=Etc/GMT+0:20201001T000000
URL;VALUE=URI:http://vsringelsdorf-niederabsdorf.ac.at/?page_id=218
DESCRIPTION: 
CATEGORIES:General
X-FUNAMBOL-ALLDAY: 1
X-MICROSOFT-CDO-ALLDAYEVENT: TRUE

END:VEVENT
BEGIN:VEVENT
UID:808-159
LOCATION:
SUMMARY:4. M-Schularbeit
DTSTAMP:20200513T000000
ORGANIZER;CN=Daniela Schmid:MAILTO:daniela.schmid@gmx.at
DTSTART;TZID=Etc/GMT+0:20200513T000000
DTEND;TZID=Etc/GMT+0:20200514T000000
URL;VALUE=URI:http://vsringelsdorf-niederabsdorf.ac.at/?page_id=218
DESCRIPTION: 
CATEGORIES:Termin
X-FUNAMBOL-ALLDAY: 1
X-MICROSOFT-CDO-ALLDAYEVENT: TRUE

END:VEVENT
BEGIN:VEVENT
UID:807-158
LOCATION:
SUMMARY:Projekttage (3./4. Schst.)
DTSTAMP:20200610T000000
ORGANIZER;CN=Daniela Schmid:MAILTO:daniela.schmid@gmx.at
DTSTART;TZID=Etc/GMT+0:20200610T000000
DTEND;TZID=Etc/GMT+0:20200611T000000
URL;VALUE=URI:http://vsringelsdorf-niederabsdorf.ac.at/?page_id=218
DESCRIPTION: 
CATEGORIES:Termin
X-FUNAMBOL-ALLDAY: 1
X-MICROSOFT-CDO-ALLDAYEVENT: TRUE

END:VEVENT
BEGIN:VEVENT
UID:806-157
LOCATION:
SUMMARY:Projekttage (3./4. Schst.)
DTSTAMP:20200609T000000
ORGANIZER;CN=Daniela Schmid:MAILTO:daniela.schmid@gmx.at
DTSTART;TZID=Etc/GMT+0:20200609T000000
DTEND;TZID=Etc/GMT+0:20200610T000000
URL;VALUE=URI:http://vsringelsdorf-niederabsdorf.ac.at/?page_id=218
DESCRIPTION: 
CATEGORIES:Termin
X-FUNAMBOL-ALLDAY: 1
X-MICROSOFT-CDO-ALLDAYEVENT: TRUE

END:VEVENT
BEGIN:VEVENT
UID:805-156
LOCATION:
SUMMARY:4. D-Schularbeit
DTSTAMP:20200422T000000
ORGANIZER;CN=Daniela Schmid:MAILTO:daniela.schmid@gmx.at
DTSTART;TZID=Etc/GMT+0:20200422T000000
DTEND;TZID=Etc/GMT+0:20200423T000000
URL;VALUE=URI:http://vsringelsdorf-niederabsdorf.ac.at/?page_id=218
DESCRIPTION: 
CATEGORIES:Termin
X-FUNAMBOL-ALLDAY: 1
X-MICROSOFT-CDO-ALLDAYEVENT: TRUE

END:VEVENT
BEGIN:VEVENT
UID:802-153
LOCATION:
SUMMARY:Faschingdienstag
DTSTAMP:20200225T000000
ORGANIZER;CN=Daniela Schmid:MAILTO:daniela.schmid@gmx.at
DTSTART;TZID=Etc/GMT+0:20200225T000000
DTEND;TZID=Etc/GMT+0:20200226T000000
URL;VALUE=URI:http://vsringelsdorf-niederabsdorf.ac.at/?page_id=218
DESCRIPTION: 
CATEGORIES:General
X-FUNAMBOL-ALLDAY: 1
X-MICROSOFT-CDO-ALLDAYEVENT: TRUE

END:VEVENT
BEGIN:VEVENT
UID:801-152
LOCATION:
SUMMARY:3. D-Schularbeit
DTSTAMP:20200219T000000
ORGANIZER;CN=Daniela Schmid:MAILTO:daniela.schmid@gmx.at
DTSTART;TZID=Etc/GMT+0:20200219T000000
DTEND;TZID=Etc/GMT+0:20200220T000000
URL;VALUE=URI:http://vsringelsdorf-niederabsdorf.ac.at/?page_id=218
DESCRIPTION: 
CATEGORIES:Termin
X-FUNAMBOL-ALLDAY: 1
X-MICROSOFT-CDO-ALLDAYEVENT: TRUE

END:VEVENT
BEGIN:VEVENT
UID:800-151
LOCATION:
SUMMARY:2. M-Schularbeit
DTSTAMP:20200115T000000
ORGANIZER;CN=Daniela Schmid:MAILTO:daniela.schmid@gmx.at
DTSTART;TZID=Etc/GMT+0:20200115T000000
DTEND;TZID=Etc/GMT+0:20200116T000000
URL;VALUE=URI:http://vsringelsdorf-niederabsdorf.ac.at/?page_id=218
DESCRIPTION: 
CATEGORIES:Termin
X-FUNAMBOL-ALLDAY: 1
X-MICROSOFT-CDO-ALLDAYEVENT: TRUE

END:VEVENT
BEGIN:VEVENT
UID:799-150
LOCATION:
SUMMARY:2. D-Schularbeit
DTSTAMP:20191204T000000
ORGANIZER;CN=Daniela Schmid:MAILTO:daniela.schmid@gmx.at
DTSTART;TZID=Etc/GMT+0:20191204T000000
DTEND;TZID=Etc/GMT+0:20191205T000000
URL;VALUE=URI:http://vsringelsdorf-niederabsdorf.ac.at/?page_id=218
DESCRIPTION: 
CATEGORIES:Termin
X-FUNAMBOL-ALLDAY: 1
X-MICROSOFT-CDO-ALLDAYEVENT: TRUE

END:VEVENT
BEGIN:VEVENT
UID:798-149
LOCATION:
SUMMARY:Fotograf
DTSTAMP:20191113T000000
ORGANIZER;CN=Daniela Schmid:MAILTO:daniela.schmid@gmx.at
DTSTART;TZID=Etc/GMT+0:20191113T000000
DTEND;TZID=Etc/GMT+0:20191114T000000
URL;VALUE=URI:http://vsringelsdorf-niederabsdorf.ac.at/?page_id=218
DESCRIPTION: 
CATEGORIES:General
X-FUNAMBOL-ALLDAY: 1
X-MICROSOFT-CDO-ALLDAYEVENT: TRUE

END:VEVENT
BEGIN:VEVENT
UID:797-148
LOCATION:
SUMMARY:1. M-Schularbeit
DTSTAMP:20191113T000000
ORGANIZER;CN=Daniela Schmid:MAILTO:daniela.schmid@gmx.at
DTSTART;TZID=Etc/GMT+0:20191113T000000
DTEND;TZID=Etc/GMT+0:20191114T000000
URL;VALUE=URI:http://vsringelsdorf-niederabsdorf.ac.at/?page_id=218
DESCRIPTION: 
CATEGORIES:Termin
X-FUNAMBOL-ALLDAY: 1
X-MICROSOFT-CDO-ALLDAYEVENT: TRUE

END:VEVENT
BEGIN:VEVENT
UID:796-147
LOCATION:
SUMMARY:Besuch St. Pölten (3./4. Schst.)
DTSTAMP:20191029T000000
ORGANIZER;CN=Daniela Schmid:MAILTO:daniela.schmid@gmx.at
DTSTART;TZID=Etc/GMT+0:20191029T000000
DTEND;TZID=Etc/GMT+0:20191030T000000
URL;VALUE=URI:http://vsringelsdorf-niederabsdorf.ac.at/?page_id=218
DESCRIPTION: 
CATEGORIES:Termin
X-FUNAMBOL-ALLDAY: 1
X-MICROSOFT-CDO-ALLDAYEVENT: TRUE

END:VEVENT
BEGIN:VEVENT
UID:795-146
LOCATION:
SUMMARY:1. D-Schularbeit
DTSTAMP:20191016T000000
ORGANIZER;CN=Daniela Schmid:MAILTO:daniela.schmid@gmx.at
DTSTART;TZID=Etc/GMT+0:20191016T000000
DTEND;TZID=Etc/GMT+0:20191017T000000
URL;VALUE=URI:http://vsringelsdorf-niederabsdorf.ac.at/?page_id=218
DESCRIPTION: 
CATEGORIES:Termin
X-FUNAMBOL-ALLDAY: 1
X-MICROSOFT-CDO-ALLDAYEVENT: TRUE

END:VEVENT
END:VCALENDAR